BEGIN:VCALENDAR
VERSION:2.0
PRODID:-//ChamberMaster//Event Calendar 2.0//EN
METHOD:PUBLISH
X-PUBLISHED-TTL:P3D
REFRESH-INTERVAL:P3D
CALSCALE:GREGORIAN
BEGIN:VEVENT
DTSTART:20240316T160000Z
DTEND:20240316T220000Z
X-MICROSOFT-CDO-ALLDAYEVENT:FALSE
SUMMARY:Borrego Desert Garden Tour
DESCRIPTION:Tour five private Borrego Springs gardens at your own pace during the wildflower season in the desert. The tour is the annual fundraising event for the Anza-Borrego Desert Natural History Association (ABDNHA)\, located at 652 Palm Canyon Drive\, Borrego Springs\, CA 92004.
X-ALT-DESC;FMTTYPE=text/html:Tour five private Borrego Springs gardens at your own pace during the wildflower season in the desert. The tour is the annual fundraising event for the Anza-Borrego Desert Natural History Association (ABDNHA)\, located at 652 Palm Canyon Drive\, Borrego Springs\, CA 92004.
LOCATION:Borrego Springs\, California.
UID:e.3533.820
SEQUENCE:3
DTSTAMP:20260426T035415Z
URL:https://borregospringsgzcms.preview.gochambermaster.com/events/details/borrego-desert-garden-tour-820
END:VEVENT

END:VCALENDAR
