BEGIN:VCALENDAR
VERSION:2.0
PRODID:-//ChamberMaster//Event Calendar 2.0//EN
METHOD:PUBLISH
X-PUBLISHED-TTL:P3D
REFRESH-INTERVAL:P3D
CALSCALE:GREGORIAN
BEGIN:VEVENT
DTSTART:20251001T170000Z
DTEND:20251001T210000Z
X-MICROSOFT-CDO-ALLDAYEVENT:FALSE
SUMMARY:Borrego Days Volunteer Open House
DESCRIPTION:Borrego Days Volunteer Open House\n\nPlease stop by the Chamber for information on how to volunteer at the Festival and meet our coordinator Joy McBride.
X-ALT-DESC;FMTTYPE=text/html:Borrego Days Volunteer Open House<br />\nPlease stop by the Chamber for information on how to volunteer at the Festival and meet our coordinator Joy McBride.
LOCATION:Borrego Springs Chamber of Commerce 786 Palm Canyon Drive
UID:e.3533.1187
SEQUENCE:3
DTSTAMP:20260424T142216Z
URL:https://borregospringsgzcms.preview.gochambermaster.com/events/details/borrego-days-volunteer-open-house-1187
END:VEVENT

END:VCALENDAR
